BEGIN:VCALENDAR
VERSION:2.0
PRODID:-//Tannery Restaurant - ECPv6.15.20//NONSGML v1.0//EN
CALSCALE:GREGORIAN
METHOD:PUBLISH
X-WR-CALNAME:Tannery Restaurant
X-ORIGINAL-URL:https://tannery.ie
X-WR-CALDESC:Events for Tannery Restaurant
REFRESH-INTERVAL;VALUE=DURATION:PT1H
X-Robots-Tag:noindex
X-PUBLISHED-TTL:PT1H
BEGIN:VTIMEZONE
TZID:Europe/Dublin
BEGIN:DAYLIGHT
TZOFFSETFROM:+0000
TZOFFSETTO:+0100
TZNAME:IST
DTSTART:20140330T010000
END:DAYLIGHT
BEGIN:STANDARD
TZOFFSETFROM:+0100
TZOFFSETTO:+0000
TZNAME:GMT
DTSTART:20141026T010000
END:STANDARD
BEGIN:DAYLIGHT
TZOFFSETFROM:+0000
TZOFFSETTO:+0100
TZNAME:IST
DTSTART:20150329T010000
END:DAYLIGHT
BEGIN:STANDARD
TZOFFSETFROM:+0100
TZOFFSETTO:+0000
TZNAME:GMT
DTSTART:20151025T010000
END:STANDARD
BEGIN:DAYLIGHT
TZOFFSETFROM:+0000
TZOFFSETTO:+0100
TZNAME:IST
DTSTART:20160327T010000
END:DAYLIGHT
BEGIN:STANDARD
TZOFFSETFROM:+0100
TZOFFSETTO:+0000
TZNAME:GMT
DTSTART:20161030T010000
END:STANDARD
END:VTIMEZONE
BEGIN:VEVENT
DTSTART;TZID=Europe/Dublin:20151128T110000
DTEND;TZID=Europe/Dublin:20151128T140000
DTSTAMP:20260424T143338
CREATED:20150416T082128Z
LAST-MODIFIED:20150416T082128Z
UID:1799-1448708400-1448719200@tannery.ie
SUMMARY:A CHRISTMAS BRUNCH
DESCRIPTION:A festive Christmas brunch morning with a demo on seasonal dishes that will see you right through Christmas and into the New Year.  These dishes can be adapted for cosy suppers at home with friends and even for neighbours calling for drinks on Christmas morning.  Followed by brunch with a glass of prosecco\, this is the perfect pre-Christmas get-together with friends.
URL:https://tannery.ie/event/a-christmas-brunch/
LOCATION:Tannery Cookery School
CATEGORIES:Cookery School
END:VEVENT
END:VCALENDAR